Workbook

Sheet Activities and Costing
C1: Iyanola | D1: GEF Funding | E1: Co-Financing | F1: Total Funding | G1: Consultant(s) responsible | H1: =D11='GEF funding'!AZ151 -> TRUE | I1: PIF - by Focal Area | M1: % of PIF | Q1: X-Check
C2: Focal Area | I2: GEF Funding | J2: Co-Financing | K2: Total Funding | M2: GEF Funding | N2: Co-Financing | O2: Total Funding
C3: BD-1 Outcome 1.1: Improved management effectiveness of existing and new protected areas | D3: =D12 -> 267169.35 | E3: =E12 -> 856232.38 | F3: =F12 -> 1123401.7 | I3: 665109 | J3: 2365000 | K3: =I3+J3 -> 3030109 | M3: =D3/I3*100 -> 40.169258 | N3: =E3/J3*100 -> 36.204329 | O3: =F3/K3*100 -> 37.074631 | Q3: =D3='GEF funding'!BF151 -> TRUE | R3: =E3='Appendix 2'!#REF! -> #REF! | S3: =F3='Total Terr ES budget'!BF151 -> TRUE
C4: BD-2: Outcome 2.1: Increase in sustainably managed landscapes and seascapes that integrate biodiversity conservation. | D4: =D57+D68+D75 -> 665109 | E4: =E57+E68+E75 -> 1026762.5 | F4: =F57+F68+F75 -> 1691871.5 | I4: 560000 | J4: 2085000 | K4: =I4+J4 -> 2645000 | M4: =D4/I4*100 -> 118.76946 | N4: =E4/J4*100 -> 49.245203 | O4: =F4/K4*100 -> 63.964895 | Q4: =D4='GEF funding'!BG151 -> TRUE | R4: =E4='Appendix 2'!#REF! -> #REF! | S4: =F4='Total Terr ES budget'!BG151 -> FALSE
C5: LD-2: Outcome 2.2 Improved dryland forest management | D5: =D89 -> 192619.68 | E5: =E89 -> 320919.97 | F5: =F89 -> 513539.65 | I5: 259740 | J5: 800000 | K5: =I5+J5 -> 1059740 | M5: =D5/I5*100 -> 74.15865 | N5: =E5/J5*100 -> 40.114996 | O5: =F5/K5*100 -> 48.459023
C6: LD-2: Outcome 2.4 Increased investments in SFM dryland forest ecosystems .
C7: SFM/REDD 1: Outcome 1.2: Good management practices applied in in existing forests | D7: =D30+D82 -> 261880.86 | E7: =E30 -> 365646.12 | F7: =F30 -> 520129.73 | I7: 562770 | J7: 2624483 | K7: =I7+J7 -> 3187253 | M7: =D7/I7*100 -> 46.534261 | N7: =E7/J7*100 -> 13.93212 | O7: =F7/K7*100 -> 16.31906
C8: CC-5: Outcome 5.2 Restoration and enhancement of carbon stocks in forests and non forest lands | D8: =D35+D41 -> 850794.22 | E8: =E35+E41 -> 1702213.1 | F8: =F35+F41 -> 2553007.3 | I8: 173160 | J8: 700000 | K8: =I8+J8 -> 873160 | M8: =D8/I8*100 -> 491.33415 | N8: =E8/J8*100 -> 243.1733 | O8: =F8/K8*100 -> 292.38711 | Q8: =D8='GEF funding'!BJ151 -> FALSE | R8: =E8='Appendix 2'!#REF! -> #REF! | S8: =F8='Total Terr ES budget'!BJ151 -> FALSE
C9: Total | D9: =SUM(D3:D8) -> 2237573.1 | E9: =SUM(E3:E8) -> 4271774.1 | F9: =SUM(F3:F8) -> 6401949.9 | H9: Total | I9: =SUM(I3:I8) -> 2220779 | J9: =SUM(J3:J8) -> 8574483 | K9: =SUM(K3:K8) -> 10795262 | M9: =D9/I9*100 -> 100.75623 | N9: =E9/J9*100 -> 49.819611 | O9: =F9/K9*100 -> 59.303331
C10: Activities | H10: Proj Mgmt | I10: =0.05*I9 -> 111038.95 | J10: =0.05*J9 -> 428724.15 | K10: =0.05*K9 -> 539763.1
C11: Component 1: Enhanced land use planning and regulatory framework (as applied to NE Coast) | D11: =D12 -> 267169.35 | E11: =E12 -> 856232.38 | F11: =F12 -> 1123401.7 | H11: Grand Total | I11: =I9+I10 -> 2331818 | J11: =J9+J10 -> 9003207.2 | K11: =K9+K10 -> 11335025 | Q11: =D11='GEF funding'!AZ151 -> TRUE | R11: =E11='Appendix 2'!BA151 -> TRUE | S11: =F11='Total Terr ES budget'!AZ151 -> TRUE
C12: =Logframe!A13 -> Outcome C1.1: Integration of ecosystems approach into legal and policy framework | D12: =D13+D18+D23 -> 267169.35 | E12: =E13+E18+E23 -> 856232.38 | F12: =F13+F18+F23 -> 1123401.7 | I12: =D9=D97 -> TRUE | J12: =E9=E97 -> FALSE | K12: =F9=F97 -> FALSE
C13: =Logframe!A30 -> Output C1.1.1: Ecological considerations integrated into planning policies and regulations for development categories | D13: =SUM(D14:D17) -> 35748.245 | E13: =SUM(E14:E17) -> 125558.55 | F13: =SUM(F14:F17) -> 161306.8 | I13: PIF - by Component
C14: Activity 1.1.1.1: Review of the National Planning and Development Policies (including Physical development, Forests, Land, Policies related to conservation and sustainable use of BD, etc.), Standards and Guidelines, and Regulations, including Draft Environmental Impact Assessment Regulations, to identify strategic entry points and recommend measures to incorporate ES, biodiversity and SFM and other ecological considerations for strengthening sustainable national land use planning for enhanced applicability in the NE Iyanola Region | D14: ='GEF funding'!E151 -> 3602.1238 | E14: ='Appendix 2'!E151 -> 23605.489 | F14: =D14+E14 -> 27207.613 | H14: C1 | I14: 260000 | J14: 1700000 | K14: =I14+J14 -> 1960000 | M14: =D11/I14*100 -> 102.75744 | N14: =E11/J14*100 -> 50.36661 | O14: =F11/K14*100 -> 57.316415
C15: Activity 1.1.1.2: Identification and assessment of viability of innovative economic and fiscal instruments and other options for conservation and sustainable use of critical biodiversity and ecosystems in NE Iyanola Region | D15: ='GEF funding'!F151 -> 18901.318 | E15: ='Appendix 2'!F151 -> 59976.74 | F15: =D15+E15 -> 78878.057 | H15: C2 | I15: 995670 | J15: 4374483 | K15: =I15+J15 -> 5370153 | M15: =D29/I15*100 -> 100.96496 | N15: =E29/J15*100 -> 47.27094 | O15: =F29/K15*100 -> 57.226248
C16: Activity 1.1.1.3:Develop concept note to demonstrate the link between resource conservation and income generation (Valuation/CBA) and propose measures to support integration of ecological considerations into planning and development policy framework; (build on case studies in 1.1.3.1 and info 1.1.2.2.) | D16: ='GEF funding'!G151 -> 13244.803 | E16: ='Appendix 2'!G151 -> 41976.323 | F16: =D16+E16 -> 55221.126 | H16: C3 | I16: 665109 | J16: 1600000 | K16: =I16+J16 -> 2265109 | M16: =D56/I16*100 -> 100 | N16: =E56/J16*100 -> 64.172655 | O16: =F56/K16*100 -> 74.692718
H17: BD1 | I17: 665109 | J17: 2365000 | K17: =I17+J17 -> 3030109 | M17: ='GEF funding'!BF151/I17*100 -> 40.169258 | N17: ='Appendix 2'!#REF!/'Activities and Costing'!J17*100 -> #REF! | O17: ='Total Terr ES budget'!BF151/'Activities and Costing'!K17*100 -> 37.074631
C18: =Logframe!A31 -> Output C1.1.2: Land Use Plan for NE Coast/Iyanola, incorporating valuation of ecosystem goods and services | D18: =SUM(D19:D22) -> 48895.881 | E18: =SUM(E19:E22) -> 177612.08 | F18: =SUM(F19:F22) -> 226507.96 | H18: BD2 | I18: 560000 | J18: 2085000 | K18: =I18+J18 -> 2645000 | M18: ='GEF funding'!BG151/'Activities and Costing'!I18*100 -> 118.76946 | N18: ='Appendix 2'!#REF!/'Activities and Costing'!J18*100 -> #REF! | O18: ='Total Terr ES budget'!BG151/'Activities and Costing'!K18*100 -> 64.921403
C19: Activity 1.1.2.1: Collate and update selected species and ecosystems baseline information in NE Iyanola Region | D19: ='GEF funding'!H151 -> 18299.807 | E19: ='Appendix 2'!H151 -> 53128.968 | F19: =D19+E19 -> 71428.775 | H19: LD | I19: 259740 | J19: 800000 | K19: =I19+J19 -> 1059740 | M19: =#REF!/I19*100 -> #REF! | N19: =#REF!/J19*100 -> #REF! | O19: =#REF!/K19*100 -> #REF!
C20: Activity 1.1.2.2: Conduct valuation of selected species and ecosystems in NE Iyanola Region | D20: ='GEF funding'!I151 -> 5749.0544 | E20: ='Appendix 2'!I151 -> 50194.362 | F20: =D20+E20 -> 55943.417 | H20: SFM/REDD | I20: 562770 | J20: 2624483 | K20: =I20+J20 -> 3187253 | M20: =#REF!/I20*100 -> #REF! | N20: =#REF!/J20*100 -> #REF! | O20: =#REF!/K20*100 -> #REF!
C21: Activity 1.1.2.3: Development of Land Use Plan (Terrestrial and Marine Resource Use) with identification/Zoning of critical ecosystems | D21: ='GEF funding'!J151 -> 24847.02 | E21: ='Appendix 2'!J151 -> 74288.747 | F21: =D21+E21 -> 99135.767 | H21: CC | I21: 173160 | J21: 700000 | K21: =I21+J21 -> 873160 | M21: ='GEF funding'!BJ151/'Activities and Costing'!I21*100 -> 580.54853 | N21: ='Appendix 2'!#REF!/'Activities and Costing'!J21*100 -> #REF! | O21: ='Total Terr ES budget'!BJ151/'Activities and Costing'!K21*100 -> 351.95578
C23: =Logframe!A32 -> Output C1.1.3: Enhanced capacity of national and local leaders to uptake ecosystem services values considerations in planning in decision making | D23: =SUM(D24:D28) -> 182525.23 | E23: =SUM(E24:E28) -> 553061.75 | F23: =SUM(F24:F28) -> 735586.98
C24: Activity 1.1.3.1 Develop case studies for selected critical species and ecosytems in NE Iyanola Region to demonstrate and showcase the value (economic, social, intrinsic…) | D24: ='GEF funding'!K151 -> 28525.489 | E24: ='Appendix 2'!K151 -> 85590.304 | F24: =D24+E24 -> 114115.79
C25: Activity 1.1.3.2: Develop and implement a national Public Awareness and Sensitization strategy that addresses NE Iyanola environmentally sensitive issues | D25: ='GEF funding'!L151 -> 12793.67 | E25: ='Appendix 2'!L151 -> 37601.408 | F25: =D25+E25 -> 50395.078
C26: Activity 1.1.3.3: Initiate and cultivate national, regional and international collaboration and partnerships to foster exchange of experiences and lessons learnt regarding critical terrestrial and marine biodiversity and ecosytems in NE Iyanola Region | D26: ='GEF funding'!M151 -> 7021.4809 | E26: ='Appendix 2'!M151 -> 19598.616 | F26: =D26+E26 -> 26620.097
C27: Activity 1.1.3.4: Develop and/or adapt and implement training plan inclusive of training material and resources to support biodiversity and ecosystem management focused on NE Iyanola Region | D27: ='GEF funding'!N151 -> 134184.59 | E27: ='Appendix 2'!N151 -> 410271.42 | F27: =D27+E27 -> 544456.01
C29: Component 2: Enhanced sustainable land management and carbon benefits in deciduous seasonal and low montane rainforest zones | D29: =D30+D35+D41 -> 1005277.8 | E29: =E30+E35+E41 -> 2067859.2 | F29: =F30+F35+F41 -> 3073137.1 | Q29: =D29='GEF funding'!BA151 -> TRUE | R29: =E29='Appendix 2'!BB151 -> TRUE | S29: =F29='Total Terr ES budget'!BA151 -> FALSE
C30: =Logframe!A16 -> Outcome C2.1: Improved ecosystems restoration and management | D30: =D31 -> 154483.61 | E30: =E31 -> 365646.12 | F30: =F31 -> 520129.73
C31: =Logframe!A35 -> Output C2.1.1: Zoning plan for restoration of degraded forest areas NE Coast | D31: =SUM(D32:D34) -> 154483.61 | E31: =SUM(E32:E34) -> 365646.12 | F31: =SUM(F32:F34) -> 520129.73
C32: Activity C2.1.1.1: Spatially represent using appropriate tools the location and distribution of DFAs; zone and quantify special management areas (e.g. areas to be restored); facilitate incorporation of Spatial Zoning Plan into Land Use Plan generated under Activity C1.1.2.3: | D32: ='GEF funding'!O151 -> 20183.781 | E32: ='Appendix 2'!O151 -> 109160.58 | F32: =D32+E32 -> 129344.36
C33: Activity C2.1.1.2: Develop an integrated sustainable forest management (SFM) plan for NE Iyanola Region inclusive of best practices for restoration/rehabilitation/ stabilisation of both terrestrial and marine resources in DFAs, including forest lands, and riverbanks and estuaries, based on Spatial Zoning Plan developed under Activity C2.1.1.1 | D33: ='GEF funding'!P151 -> 134299.83 | E33: ='Appendix 2'!P151 -> 256485.54 | F33: =D33+E33 -> 390785.37
C35: =Logframe!A17 -> Outcome C2.2: Restoration of 1,157 hectares of forest of global BD significance, enhancing carbon stocks | D35: =D36 -> 318114.33 | E35: =E36 -> 616042.47 | F35: =F36 -> 934156.79
C36: Output C2.2.1: Restoration of degraded priority forest areas nationwide, enhancing connectivity in a 10,000 ha and a 5,090 ha overall areas), with potential total carbon benefit of 691,689 tons CO2 at the end of a 30 year period | D36: =SUM(D37:D40) -> 318114.33 | E36: =SUM(E37:E40) -> 616042.47 | F36: =SUM(F37:F40) -> 934156.79
C37: Activity C2.2.1.1: Develop and commence implementation of Participatory based Site Specific Management Plans based on the SFM Plan developed in C2.1.1.2 for restoring/enhancing forests and lands with appropriate plant species to enhance carbon stocks while creating connectivity in Key Biodiversity Areas/Key Bird Areas; | D37: ='GEF funding'!Q151 -> 53685.727 | E37: ='Appendix 2'!Q151 -> 101752.91 | F37: =D37+E37 -> 155438.63
C38: Activity C2.2.1.2: Establish community based flying nursery facilities | D38: ='GEF funding'!R151 -> 79542.529 | E38: ='Appendix 2'!R151 -> 167061.71 | F38: =D38+E38 -> 246604.24
C39: Activity C2.2.1.3: Production, distribution, planting and maintenance of at least 50,000 seedlings of appropriate plant species in designated areas which will enhance carbon stocks while forming migratory corridors | D39: ='GEF funding'!S151 -> 184886.07 | E39: ='Appendix 2'!S151 -> 347227.85 | F39: =D39+E39 -> 532113.92
C41: =Logframe!A18 -> Outcome C2.3: Restoration efforts and avoided degradation lead projected annual tons CO2savings 23,056. Potential total carbon benefit of 691,689 tons CO2 over 30 years. | D41: =D42+D45+D49+D53 -> 532679.89 | E41: =E42+E45+E49+E53 -> 1086170.6 | F41: =F42+F45+F49+F53 -> 1618850.5
C42: Output C2.3.1: Rehabilitation of riparian, ravine, beach and migratory corridors of NE Coast/ Iyanola forest areas (200 ha) | D42: =SUM(D43:D44) -> 28119.409 | E42: =SUM(E43:E44) -> 88788.777 | F42: =SUM(F43:F44) -> 116908.19
C43: Activity C2.3.1.1: Develop and commence implementation of Participatory based Site Specific Management Plans based on the SFM Plan developed under activity C2.1.1.2 for restoring/stabilising eroded/vulnerable riverbanks and estuaries in conjunction with Activities C 2.2.1.2 and C2.2.1.3 | D43: ='GEF funding'!T151 -> 28119.409 | E43: ='Appendix 2'!T151 -> 88788.777 | F43: =D43+E43 -> 116908.19
C45: Output C2.3.2: At least 1 agreement negotiated for non government forest areas NE Coast/Iyanola | D45: =SUM(D46:D48) -> 191709.83 | E45: =SUM(E46:E48) -> 376335.47 | F45: =SUM(F46:F48) -> 568045.3
...

Sheet Logframe
C1: Appendix 4: Results Framework
A3: Iyanola - Natural Resource Management of the NE Coastapproach
B4: Indicator | C4: Baseline | D4: Target | E4: Sources of verification | F4: Risks and Assumptions
A5: BD-1 Outcome 1.1: Improved management effectiveness of existing and new protected areas | B5: (i) IUCN Category of protection; (ii) area (ha) under protection; (iii) number of PAs under active and recognized conservaton management | C5: Forest reserves (ca 1600ha) with few fragmented PAs of international recognition (terrestrial: 21 ha), with information gaps and minimal management (e.g. status "proposed"): 18 terrestrial and marine protected areas with IUCN category not reported, 5 with IUCN category VI; | D5: (i) Majority of currently undesignated Pas are formalized; (ii) Improved management effectiveness and financial sustainability of existing protected areas encompassed within proposed IyanolaNational Park area (5,090 hectares) | E5: Technical and financial reports; international databases on PAs and species they contain | F5: Risks: (i) Private absentee land owners may not be cooperative; (ii) a major development (resort, road) is approved within the project area; Assumptions: (i) PA management remains GOSL priority; (ii) designation as Protected Area leverages improved management
A6: BD-2: Outcome 2.1: Increase in sustainably managed landscapes and seascapes that integrate biodiversity conservation. | B6: (i) number of previously fragmented and of new PAs merged into continuous managemetn areas; (ii) populations of rare and threatened species; Extent/Acreage of land and sea scape under strict environmental management; number pf PAs with management plans developed and under implementation | C6: (i) Five fragmented Forest Reserves plus three Protected Areas (mangroves) totalling 1664 ha; (ii) no adotped Land Use Plan; (iii) habitat loss by slash-and-burn and sand mining; (iv) renewable natural resources often overexploited; (v) users unaware of impact or alternative practices; (vi) illegal hunting declining; (vi) St Lucia ignaua estimated to below 1000 individuals; Extent of landscape sustainably managed in 2000, 2005, 2010. | D6: Land Use Plan and enhanced regulatory framework for the NE Coast incorporates biodiversity and ecosystemservices valuation. Production of biodiversity friendly goods and services; Increase size of landscape by 25-35% or 50% of total acreage under management; reduction in unregulated agriculture, sand mining, deforestation for charcoal production, hunting | E6: Land Use Plan, technical reports, sales figures of target community members; Ministry of Agriculture and Ministry of Sustainable Development Reports and Documents | F6: Risks: (i) Private absentee land owners may lack interest in sustainable land managment approaches; (ii) squatters adn sand miners may not be from NE communities; (iii) a major development (resort, road) is approved within the project area; Assumptions: (i) Adequate community buy-in and internal control mechanisms are created; (ii) Improved regulatory framework can be enforced where internal control does not apply (e.g. external squatters); Capacity to assess seascapes currently exists.
A7: LD-2: Outcome 2.2 Improved dryland forest management | C7: Degradation of dry forest is caused by slash-and-burn | D7: Two private forest concessions established | E7: Concession documents | F7: Risks: (i) ; Assumptions: (i)
A8: LD-2: Outcome 2.4 Increased investments in SFM dryland forest ecosystems . | F8: Risks: (i) ; Assumptions: (i)
A9: SFM/REDD 1: Outcome 1.2: Good management practices applied in in existing forests | B9: (i) Conservation of forests (ii) Avoided deforestation and forest degradation | C9: 250 ha of government owned forest reserve relatively well managed | D9: 1,157 hectares forest lands restored, 200 hectares forest lands enhanced management | E9: Technical reports | F9: Risks: (i) ; Assumptions: (ii) No major natural disaster (hurrican, wildfire) upsets implemetnation and forest regeneration; (i) Adequate community buy-in and internal control mechanisms are created; (iii) Improved regulatory framework can be enforced where internal control does not apply (e.g. external squatters)
A10: CC-5: Outcome 5.2 Restoration and enhancement of carbon stocks in forests and non forest lands | B10: (i) Conservation and advancement of carbon in forests | D10: Projected annual tons CO2savings of 23,056. (691689 CO2 eq. 10,000 ha avoided degradation - 113948011 CO2 eq. ) Potential total carbon benefit of 691,689 tons CO2 over 30 years. | E10: Technical reports, including carbon accounting | F10: Risks: (i) ; Assumptions: (i) No major natural disaster (hurrican, wildfire) upsets implemetnation and forest regeneration
A11: Component 1: Enhanced land use planning and regulatory framework (as applied to NE Coast)
A12: Component 1 Outcomes | B12: Indicator | C12: Baseline | D12: Target | E12: Sources of verification | F12: Risks and Assumptions
A13: Outcome C1.1: Integration of ecosystems approach into legal and policy framework | B13: Land Use trends and patterns; extent of sand mining; extent of turtle poaching of Grande Anse and Louvet nesting beaches; area cleared by slash-and-burn for charcoal production and/or short cycle crops | C13: No Land Use Plan; sand mining seriously affects nesting iguanas and marine turtles; extensive loss of marine turtles (specifically Dermochelys coriacea) as a result of slaughters for meat and eggs; significant forest degradation by slash-and-burn for charcoal production and/or short cycle crops; ca 30% of charcoal makers practice clear cutting on abandoned estates | D13: Sand mining and poaching of sea turtles and their eggs at Grand Anse and Louvet stopped; forest clearing for charcoal and agriculture limited to selective cutting by owners/care-takers on their private land (mid-term targe); Land Use Plan adopted by Cabinet (end-of-project target); Recommendations for policy and legislative reform | E13: Land Use maps, project reports, technical reports; Development Project Proposals | F13: Risks: (i) Illegal sand miners and squatters from outside NE project area largely escape internal community control and GOSL monitoring & enforcement mechanisms; Assumptions: (i) Land Use Plan remains GOSL priority; (ii) Adequate community buy-in and internal control mechanisms are created; (iii) Improved regulatory framework can be enforced where internal control does not apply (e.g. external squatters and sand miners); (iv) Au Picon Charcoal and Agricultural Producers' experience can be adapted to NE coast users; (v) Continued technicla asisstance from teh French Government to collaborate on WBT and iguana conservation
A14: Component 2: Enhanced sustainable land management and carbon benefits in deciduous seasonal and low montane rainforest zones
A15: Component 2 Outcomes | B15: Indicator | C15: Baseline | D15: Target | E15: Sources of verification | F15: Risks and Assumptions
A16: Outcome C2.1: Improved ecosystems restoration and management | F16: Risks: (i) Assumptions: (i)
A17: Outcome C2.2: Restoration of 1,157 hectares of forest of global BD significance, enhancing carbon stocks | B17: Number of planted trees; | D17: 50,000 seedlings planted; | E17: Project reports, Technical reports, including carbon accounting | F17: Risks: (i) Assumptions: (i) acceptable survival rates of tree seedlings
A18: Outcome C2.3: Restoration efforts and avoided degradation lead projected annual tons CO2savings 23,056. Potential total carbon benefit of 691,689 tons CO2 over 30 years. | B18: Length of restored and stabilized river banks and riparian vegetation strips; Carbon accounting/forecasting; | C18: Land degradation causes erosion and siltation; e.g. Trou Salee River bank seriously affected by ATV tours; | D18: 2km of riverbanks restored/stabilized; | E18: GIS maps; Technical reports and international databases | F18: Risks: (i) Potential conflicts of interest with private sector stakeholders; Assumptions: (i) Continued overlap ov interest in riparian conservation with BYS; (ii) no major flooding event interferes with riparian restoration; (iii) buy-in from private land owners can be created;
A19: Component 3: Iyanola Conservation
A20: Component 3 Outcomes | B20: Indicator | C20: Baseline | D20: Target | E20: Sources of verification | F20: Risks and Assumptions
A21: Outcome C3.1 Increased management effectiveness score of 20% for Forest and Marine Reserves in NE Coast. | B21: Area of forest protected by Reserve status or active management on private lands | C21: Five fragmented Forest Reserves plus three Protected Areas (mangroves) totalling 1664 ha and ca 3000 ha of nominally protected forests with lack of active management | D21: 20% increase in management effectiveness score in Forest Reserves | E21: Technical reports | F21: Risks: (i) None foreseen; Assumptions: (i) Regular presence by responsible agencies; (ii) adequate expert input
A22: Outcome C3.2 Population of threatened species (iguana, turtle, birds) maintained or increased. | B22: Species population statistics for selected indicator species (animals and plants); Nesting data of marine turtles, iguanas and birds stable or increasing; | C22: 2 terrestrial species rated CR, 2 VU, 3 EN, and 3 not assessed# of nesting marine turtles (only females), size of nesting female turtles; size and number of large male iguanas. Number of bird species, number of individual birds of each species. Techncial feasibility study for "Mainland Island" at Marquis 2 prepared; Draft Iguana Species Action Plan; | D22: Populations of at least one rare animal and two rare plant species show increasing trends; Nesting intensity of marine turtles, birds and iguana. Population counts indicate an increase in population size over the average for the past 5 years. | E22: Population assessment reports and international databases and technical reports; Feasibility studies; Publication/presentation record | F22: Risks: (i) Natural disasters and external impacts on migratory species for example, can mask project impact; Assumptions: (i) Continued support by international NGOs with relevant technical expertise; (iii) buy-in from private land owners can be created; Data collection is accurate, and standardized. Capacity exists in country to monitor population trends; or community or data collectors are willing and able to be trained. Willingness to carry out annual population assessments for a minimum of 3 consecutive years.
A23: Outcome C3.3 Increase capacity & income derived from tourism by 10% in NE Coast | B23: Income generated (sales revenue) by Iyanola-based tourist enterprises; Feasibility studies; tourism-based enterprises in NE Coast; linkages with BD friendly producers at the local level | C23: Curriculum and training programme developed by Media Impact Plc available for roll-out for NE Coast campaign; A number of nature-based tourism products and associations exist, but there is an unknown number. There is also no cohesive structure and weak local linkages exist | D23: Awareness and pride in NE Coast assets increased by 25% across Saint Lucia; 2 costed studies on novel, BD-related tourism products; increased income derived from tourism by 10% in NE Coast; Increased viability of nature-based tourism businesses through implementation of a cohesive operational structure, greater adoption of conservation and sustainability measures, and expansion of markets and local linkages. | E23: Training reports; Feasibility studies; business reports/accounts; Busines performance reports; sales data; operational structure; contracts/agreements | F23: Risks: (i) Novel products selected for feasibility studies turn out to be not economical upon detailed analysis; Assumptions: (i) Continued support by international NGOs with relevant social marketing and technical expertise; Existing operators are willing to include NE nature-based products in their offerings; improved data collection measures; accurate record keeping.
A24: Component 4: Enhanced Capacity for the production of biodiversity friendly goods and servicesin inland forest and coastal communities (National with emphasis on NE Coast)
A25: Component 4 Outcomes | B25: Indicator | C25: Baseline | D25: Target | E25: Sources of verification | F25: Risks and Assumptions
A26: Outcome C4.1 Reductions in pressure on biodiversity and forest ecosystem services | B26: Poaching levels of threatened species reduced; Criteria for conservation and sustainable use of biodiversity incorporated in policies, standards, and regulations for production and sale of biodiversity friendly products | C26: Turtle mortalities around 20% of nesting, deforestation at ~10%; At the local level, there is limited knowledge/awareness of the criteria for sustainable production of BD friendly goods as businesses are mostly informal and production is primarily undertaken at the subsistence level. | D26: Marine turtle poaching levels reduced to < 5% of nesting. Forest loss is 0%; Increased adoption of biodiversity friendly practices in keeping with criteria and indicators for conservation and sustainable use of natural resources | E26: Technical reports; Nesting data from turtle watch teams. Forest loss data; Standards; policies; guidelines; operating procedures; compliance cheklists | F26: Risks: (i) Assumptions: (i) Data collection is accurate. Capacity exists locally to monitor the poaching and deforest ation levels. Resource loss is reversible; Buy-in to policy recommendations; Compliance mechanisms are supported
A27: Outcome C4.2 Producers adopt best practices for production of BD friendly goods | B27: X Number of producers employing best practices for production of BD friendly goods at one marine reserve; Best practices documented and promulgated among local producers of BF friendly products | C27: X- ??? Producers employ best practices; Extension services and other programmes provide information on conservation and sustainability measures, but there is no measure of compliance; No best practice guidelines and certification schemes (Some standards for latanye; lansan; honey) | D27: Number of producers increase to 75% of total producers operating; Best practices adopted in production of biodiversity friendly products | E27: Technical reports; business reports/accounts; Data based on research on production activites ongoing at the marine reserves; Documented best practices; training curriculum and other relevant materials; compliance evaluations | F27: Risks: (i) Assumptions: (i) Best practices have been identifies, tested and approved; Buy-in to policy recommendations; Producers understand the value of conservation and sustainability efforts
A28: =A11 -> Component 1: Enhanced land use planning and regulatory framework (as applied to NE Coast)
A29: Component I Outputs | B29: Indicator | C29: Baseline | D29: Target | E29: Sources of verification
A30: Output C1.1.1: Ecological considerations integrated into planning policies and regulations for development categories | B30: Revision of Development Policy and Standards/ Guidelines Report on current land use policies, legislation, regulations and standards, and opportunities; Policy guidelines for incorporating ecological considerations into Land Use and Development Policy | C30: Existing DCSG document does not cater for ecological considerations; Some Government policies incorporate species and landscape protection considerations; Current land Use Policy does not integrated ecological considerations; No legislation on land use | D30: Concept Note/Cabinet Paper proposing measures for revisions and approvals for DCSG document with ecological requirements; The Physical Planning Dept. & the DCA establishes measures for evaluating planing applications from a multidimensional perspective, including ecological considerations; | E30: Existing and revised DCSG document Technical reports; Government / national policy documents. | F30: Risk of competing land use, private ownership resistance, acceptance of zoning
A31: Output C1.1.2: Land Use Plan for NE Coast/Iyanola, incorporating valuation of ecosystem goods and services | B31: Land Use Plan; electronic inventory of ecosystem goods ans services and biodiv in NE Coast | C31: Existence of NE Quadrant plan; No local Land Use Plan exist for NE Coast; no inventory of ecosystem goods & services and biodiv in NE Coast | D31: Formulation of local and integrated land use plan; Land Use Plan adopted by Cabinet (end-of-project terget) | E31: Completed land use plan document and strategy map; Technical Reports and documents, databases/ electronic documentation - videography | F31: Existence of NE Quadrant plan, low priority status, financial constraints and acceptance
A32: Output C1.1.3: Enhanced capacity of national and local leaders to uptake ecosystem services values considerations in planning in decision making | B32: Training opportunities and sensitization meetings/ workshops and seminars Number of trainees x weeks training; conservation techniques employed; tools and techniques for mapping and valuing ecosystem services | C32: Limited qualitative and quantitative capacity and specialized knowledge and expertise; Forestry Dept benefited from past exchange with French WBT researchers; 5 Forestry staff trained in capture, tag release technique for Iguana delicatissima; On-going analysis of Iguana genetics in Americas with support fo French Government | D32: Case Studies using ecosystem valuation to demonstrate socio-economic importance of critical BD friendly goods and services in NE coast. A cadre of practitioners with the requisite capacity - trainees, increased capacity and increased levels of integration; At least one exchange with overseas agency; | E32: Project technical and training reports; publications/presentations | F32: Risk of low awareness, recognition lack of technical and financial support and assuming priority acceptance by authorities
A33: =A14 -> Component 2: Enhanced sustainable land management and carbon benefits in deciduous seasonal and low montane rainforest zones
A34: Component 2 Outputs | B34: Indicator | C34: Baseline | D34: Target | E34: Sources of verification
A35: Output C2.1.1: Zoning plan for restoration of degraded forest areas NE Coast | B35: Spatial map showing location, distribution, area and severity | C35: Land use plan with zonation of intact and/or degraded forests does not exist | D35: Statutory land use zoning plan of DFAs to be restored completed, approved and adopted; national scalemap identifying location, distribution, density and road network linkage | E35: GIS maps; Technical reports and databases | F35: Risk of competing land use, private ownership resistance; Approval from central govt , aceptance of zoning, sterilization of land in terms of alternative options, private land rights
A36: Output C2.2.1: Restoration of degraded priority forest areas nationwide, enhancing connectivity in a 10,000 ha and a 5,090 ha overall areas), with potential total carbon benefit of 691,689 tons CO2 at the end of a 30 year period | B36: Extent of Forest areas and acreages planted | C36: Depletion of stocks of intact forest areas that are unzoned with no legal status for conservation and protection | D36: Planting/replacement of 250 ha in NE Coast within nationwide frame of 15,090 ha of forest lands integrated into a national land use plan | E36: Project reports; Forestry and other department reports
A37: Output C2.3.1: Rehabilitation of riparian, ravine, beach and migratory corridors of NE Coast/ Iyanola forest areas (200 ha) | B37: Functional and effective mitigative measures such as buffers; Length of restored and stabilized beach fronts, river banks, and riparian vegetation strips; Area of migratory corridors rehabilitated; | C37: Uncontrolled negative ecosystem impacts from unsustainable physical and economic activity with deleterious effects; Land degradation causes erosion and siltation; significant beach degradation due to sand mining at approximately 50 tonnes per week at Grande Anse, and a lesser extent at Louvet. e.g. Trou Salee River bank seriously affected by ATV tours; poor management on privatelands between Forest Reserves creating fragmented landscape; | D37: Inclusion in zoning regime proposals and strategy of land use plan for implementation; 2km of riverbanks restored/stabilized; total of 200ha of non-fragmented migratory corridors rehabilitated; Quantity of beach sand loss as a result of mining on Grande Anse and Louvet beaches halted or reduced by 70 - 90% of baseline. | E37: Technical reports and databases
A38: Output C2.3.2: At least 1 agreement negotiated for non government forest areas NE Coast/Iyanola | B38: Incentive mechanisms and MOUs/Agreements | C38: Limited incentive mechanisms applicable to privately owned lands; No formal agreement with private land owners exist; responsibilities on lands owned by absentee owners not always clear | D38: Model Framework for conservation PPP; At least 1 agreement negotiated for non government forest areas NE Coast/Iyanola | E38: Project reports; Signed MoU/Agreement
A39: Output C2.3.3: Two private concessions established to raise revenue for FD | C39: Conservation and management programmes of FD constrained due to limited resources - annual government budget of >>>> | D39: Model Framework for Sustainable Financing for Forestry/BD related programmes - – at least 2 private concessions within a sustainable financing frame negotiated to raise revenue for SFM
A40: Output C2.3.4: Research and Monitoring programme established for indicator species | B40: Populations of selected indicator species (animals and plants); Research Plan | C40: Knowledge base on rare species limited, but recent assessments of some birds and plants exist; Several additional candidate indicator species have been identified; IUCN assesment: 2 terrestrial species rated CR, 2 VU, 3 EN, and 3 not assessed; add marine species | D40: Increased IUCN assessments; Quantity of beach sand loss as a result of mining on Grande Anse and Louvet beaches halted or reduced by 70 - 90% of baseline.Assessment of species and ecosystem responses to human activites including CC; Populations of at least one rare animal and two rare plant species show increasing trends | E40: Project Reports, Technical reports, international and national databases and statistics; publications and records
A41: =A19 -> Component 3: Iyanola Conservation
...

Sheet Work plan and time table
B1: Saint Lucia | C1: Year 1 | G1: Year 2 | K1: Year 3 | O1: Year 4 | S1: Responsible
C2: Q1 | D2: Q2 | E2: Q3 | F2: Q4 | G2: Q1 | H2: Q2 | I2: Q3 | J2: Q4 | K2: Q1 | L2: Q2 | M2: Q3 | N2: Q4 | O2: Q1 | P2: Q2 | Q2: Q3 | R2: Q4 | S2: consultant(s)
B3: ='Activities and Costing'!C11 -> Component 1: Enhanced land use planning and regulatory framework (as applied to NE Coast)
B4: ='Activities and Costing'!C12 -> Outcome C1.1: Integration of ecosystems approach into legal and policy framework
B5: ='Activities and Costing'!C13 -> Output C1.1.1: Ecological considerations integrated into planning policies and regulations for development categories
B6: ='Activities and Costing'!C14 -> Activity 1.1.1.1: Review of the National Planning and Development Policies (including Physical development, Forests, Land, Policies related to conservation and sustainable use of BD, etc.), Standards and Guidelines, and Regulations, including Draft Environmental Impact Assessment Regulations, to identify strategic entry points and recommend measures to incorporate ES, biodiversity and SFM and other ecological considerations for strengthening sustainable national land use planning for enhanced applicability in the NE Iyanola Region
B7: ='Activities and Costing'!C15 -> Activity 1.1.1.2: Identification and assessment of viability of innovative economic and fiscal instruments and other options for conservation and sustainable use of critical biodiversity and ecosystems in NE Iyanola Region
B8: ='Activities and Costing'!C16 -> Activity 1.1.1.3:Develop concept note to demonstrate the link between resource conservation and income generation (Valuation/CBA) and propose measures to support integration of ecological considerations into planning and development policy framework; (build on case studies in 1.1.3.1 and info 1.1.2.2.)
B10: ='Activities and Costing'!C18 -> Output C1.1.2: Land Use Plan for NE Coast/Iyanola, incorporating valuation of ecosystem goods and services
B11: ='Activities and Costing'!C19 -> Activity 1.1.2.1: Collate and update selected species and ecosystems baseline information in NE Iyanola Region
B12: ='Activities and Costing'!C20 -> Activity 1.1.2.2: Conduct valuation of selected species and ecosystems in NE Iyanola Region
B13: ='Activities and Costing'!C21 -> Activity 1.1.2.3: Development of Land Use Plan (Terrestrial and Marine Resource Use) with identification/Zoning of critical ecosystems
B15: ='Activities and Costing'!C23 -> Output C1.1.3: Enhanced capacity of national and local leaders to uptake ecosystem services values considerations in planning in decision making
B16: ='Activities and Costing'!C24 -> Activity 1.1.3.1 Develop case studies for selected critical species and ecosytems in NE Iyanola Region to demonstrate and showcase the value (economic, social, intrinsic…)
... B46: ='Activities and Costing'!C54 -> Activity C2.3.4.1: Design and implement a comprehensive Pressure State response Monitoring Programme for indicator species for measuring success of conservation and biodiversity businesses in NE Iyanola Region (building on existing monitoring programmes)
B48: Component 3 Objective: To strengthen policy, legislative and institutional reforms and capacity building to support Sustainable Land Management (SLM), Integrating Water Resources Management (IWRM) and ecosystem services management taking into consideration climate change resilience building in Trinidad and Tobago, particularly the Arima watershed.
B49: ='Activities and Costing'!C57 -> Outcome C3.1 Increased management effectiveness score of 20% for Forest and Marine Reserves in NE Coast.
B50: ='Activities and Costing'!C58 -> Output C3.1.1: Enhanced management effectiveness of 4 key NE Dry Forest Reserves (200 ha)
B51: ='Activities and Costing'!C59 -> Activity C3.1.1.1: Rapid assessment of status of Dry Forest in Forest Reserves and on private lands in Iyanola Region and zoning of critical forest areas in NE Iyanola Region (concomittant activity with Land use Plan - C1)
B52: ='Activities and Costing'!C60 -> Activity C3.1.1.2: Conduct Baseline Assessment for Management Effectiveness of Dry Forest in NE Iyanola Region using appropriate tools such as management effectiveness score card
B53: ='Activities and Costing'!C61 -> Activity C3.1.1.3: Develop and commence Implementation of Participatory based Site Specific Management Plans/Guidelines based on the SFM Plan developed in C2.1.1.2 for at least 4 Dry Forest areas in NE Iyanola Region in conjunction with Activities C.2.2.1.1-3; C2.3.2.1and C2.3.4.1
B55: ='Activities and Costing'!C63 -> Output C3.1.2: Boundaries set for Grande Anse and Louvet Marine Reserves
B56: ='Activities and Costing'!C64 -> Activity C3.1.2.1 Identification and demarcation of boundaries through field assessments, GPS coordinates and utilizing GIS to develop maps of the marine reserves (demarcation will require legal action and possible re-gazetting of the proposed boundaries).
B57: ='Activities and Costing'!C65 -> Activity C3.1.2.2 Testing of proposed boundaries against conservation targets (e.g. Aichi Target for 2020) and socio-economic goals and adjusting these boundaries as needed.
B58: ='Activities and Costing'!C66 -> Activity C3.1.2.3 Conduct Baseline Assessment for Management Effectiveness using appropriate tools (prelim mgmt score card will include governance, enforcement and research, will speak more specifically to boundary delimitation)
B60: ='Activities and Costing'!C68 -> Outcome C3.2 Population of threatened species (iguana, turtle, birds) maintained or increased.
B61: ='Activities and Costing'!C69 -> Output C3.2.1.: Management and sustainable financing plan established for Grand Anse Marine Reserves in NE Coast
B62: ='Activities and Costing'!C70 -> Activity C3.2.1.1: Formulate and commence implementation of a Participatory based Site Specific Management Plan for Grand Anse Marine Reserve based on the SFM Plan developed in C2.1.1.2 , that will focus on reducing pressures on threatened terrestrial and marine species, incorporating sustainable financing options from Output C2.3.3
... B87: ='Activities and Costing'!C95 -> Activity C4.2.2.2:Identify and compile best practices adapted at the local level for production (including advisory and supporting services) and sale of BD friendly goods and services and develop manuals and protocols for community replication and upscaling nationally of successes in sustainable use of local biological resources

Sheet GEF funding
AT1: APPENDICES 1 AND 2
B2: GF/
B3: BUDGET in UNEP Format -- GEF Resources
D5: ='Appendix 2'!D5 -> Breakdown by | E5: ='Appendix 2'!E5 -> Activity | AT5: ='Appendix 2'!AU5 -> Year | AZ5: ='Appendix 2'!BA5 -> Component | BF5: Focal Area
D6: Component | E6: 1 | O6: 2 | Z6: 3 | AR6: Total | AT6: Year 1 | AU6: Year 2 | AV6: Year 3 | AW6: Year 4 | AX6: Total | AZ6: 1 | BA6: 2 | BB6: 3 | BC6: 4 | BD6: Total | BF6: BD1 | BG6: BD2 | BH6: LD | BI6: SFM/REDD | BJ6: CC | BK6: Total
D7: Activity | E7: 1.1.1.1 | F7: 1.1.1.2 | G7: 1.1.1.3 | H7: 1.1.2.1 | I7: 1.1.2.2 | J7: 1.1.2.3 | K7: 1.1.3.1 | L7: 1.1.3.2 | M7: 1.1.3.3 | N7: 1.1.3.4 | O7: 2.1.1.1 | P7: 2.1.1.2 | Q7: 2.2.1.1 | R7: 2.2.1.2 | S7: 2.2.1.3 | T7: 2.3.1.1 | U7: 2.3.2.1 | V7: 2.3.2.2 | W7: 2.3.3.1 | X7: 2.3.3.2 | Y7: 2.3.4.1 | Z7: 3.1.1.1 | AA7: 3.1.1.2 | AB7: 3.1.1.3 | AC7: 3.1.2.1 | AD7: 3.1.2.2 | AE7: 3.1.2.3 | AF7: 3.2.1.1 | AG7: 3.2.2.1 | AH7: 3.3.1.1. | AI7: 3.3.1.2 | AJ7: 3.3.1.3 | AK7: 4..1.1.1 | AL7: 4..1.1.2 | AM7: 4..1.1.3 | AN7: 4..1.1.4 | AO7: 4.2.1.1 | AP7: 4.2.2.1 | AQ7: 4.2.2.2 | AR7: US$ | AT7: US$ | AU7: US$ | AV7: US$ | AW7: US$ | AX7: US$ | AZ7: US$ | BA7: US$ | BB7: US$ | BC7: US$ | BD7: US$ | BF7: US$ | BG7: US$ | BH7: US$ | BI7: US$ | BJ7: US$ | BK7: US$
A8: 10 | B8: PROJECT PERSONNEL COMPONENT
B9: 1100 | C9: Project Personnel
C10: 1101 | D10: Full-time project coordiantor | E10: =0.05*SUM(E11:E17, E32, E37, E43, E65, E85, E110, E149) -> 171.5297 | F10: =0.05*SUM(F11:F17, F32, F37, F43, F65, F85, F110, F149) -> 900.06274 | G10: =0.05*SUM(G11:G17, G32, G37, G43, G65, G85, G110, G149) -> 630.70492 | H10: =0.05*SUM(H11:H17, H32, H37, H43, H65, H85, H110, H149) -> 871.41937 | I10: =0.05*SUM(I11:I17, I32, I37, I43, I65, I85, I110, I149) -> 273.76449 | J10: =0.05*SUM(J11:J17, J32, J37, J43, J65, J85, J110, J149) -> 1183.1914 | K10: =0.05*SUM(K11:K17, K32, K37, K43, K65, K85, K110, K149) -> 1358.3566 | L10: =0.05*SUM(L11:L17, L32, L37, L43, L65, L85, L110, L149) -> 609.22239 | ... AQ10: =0.05*SUM(AQ11:AQ17, AQ32, AQ37, AQ43, AQ65, AQ85, AQ110, AQ149) -> 500 | AR10: =SUM(E10:AQ10) -> 106551.1 | AT10: =$AR10/4 -> 26637.775 | AU10: =$AR10/4 -> 26637.775 | AV10: =$AR10/4 -> 26637.775 | AW10: =$AR10/4 -> 26637.775 | AX10: =SUM(AT10:AW10) -> 106551.1 | AZ10: =SUM(E10:N10) -> 12722.35 | BA10: =SUM(O10:Y10) -> 47870.373 | BB10: =SUM(Z10:AJ10) -> 31671.857 | BC10: =SUM(AK10:AQ10) -> 14286.52 | BD10: =SUM(AZ10:BC10) -> 106551.1 | BF10: =SUM(E10:N10) -> 12722.35 | BG10: =SUM(Z10:AJ10) -> 31671.857 | BJ10: =SUM(O10:Y10) -> 47870.373 | BK10: =SUM(BF10:BJ10) -> 92264.58
C11: 1102 | D11: Part-time project director | AR11: =SUM(E11:AQ11) -> 0 | AT11: =$AR11/4 -> 0 | AU11: =$AR11/4 -> 0 | AV11: =$AR11/4 -> 0 | AW11: =$AR11/4 -> 0 | AX11: =SUM(AT11:AW11) -> 0 | AZ11: =SUM(E11:N11) -> 0 | BA11: =SUM(O11:Y11) -> 0 | BB11: =SUM(Z11:AJ11) -> 0 | BC11: =SUM(AK11:AQ11) -> 0 | BD11: =SUM(AZ11:BC11) -> 0 | BF11: =SUM(E11:N11) -> 0 | BG11: =SUM(Z11:AJ11) -> 0 | BJ11: =SUM(O11:Y11) -> 0 | BK11: =SUM(BF11:BJ11) -> 0
C12: 1103 | D12: MSDEST: Forester, Wildlife biologist, Conservationist. BD Coordinator, Environmental Education | AR12: =SUM(E12:AQ12) -> 0 | AT12: =$AR12/4 -> 0 | AU12: =$AR12/4 -> 0 | AV12: =$AR12/4 -> 0 | AW12: =$AR12/4 -> 0 | AX12: =SUM(AT12:AW12) -> 0 | AZ12: =SUM(E12:N12) -> 0 | BA12: =SUM(O12:Y12) -> 0 | BB12: =SUM(Z12:AJ12) -> 0 | BC12: =SUM(AK12:AQ12) -> 0 | BD12: =SUM(AZ12:BC12) -> 0 | BF12: =SUM(E12:N12) -> 0 | BG12: =SUM(Z12:AJ12) -> 0 | BJ12: =SUM(O12:Y12) -> 0 | BK12: =SUM(BF12:BJ12) -> 0
C13: 1104 | D13: MAFF: Fisheries/marine biologist, vet & lifestock | AR13: =SUM(E13:AQ13) -> 0 | AT13: =$AR13/4 -> 0 | AU13: =$AR13/4 -> 0 | AV13: =$AR13/4 -> 0 | AW13: =$AR13/4 -> 0 | AX13: =SUM(AT13:AW13) -> 0 | AZ13: =SUM(E13:N13) -> 0 | BA13: =SUM(O13:Y13) -> 0 | BB13: =SUM(Z13:AJ13) -> 0 | BC13: =SUM(AK13:AQ13) -> 0 | BD13: =SUM(AZ13:BC13) -> 0 | BF13: =SUM(E13:N13) -> 0 | BG13: =SUM(Z13:AJ13) -> 0 | BJ13: =SUM(O13:Y13) -> 0 | BK13: =SUM(BF13:BJ13) -> 0
C14: 1105 | D14: Landuse / physical planner | AR14: =SUM(E14:AQ14) -> 0 | AT14: =$AR14/4 -> 0 | AU14: =$AR14/4 -> 0 | AV14: =$AR14/4 -> 0 | AW14: =$AR14/4 -> 0 | AX14: =SUM(AT14:AW14) -> 0 | AZ14: =SUM(E14:N14) -> 0 | BA14: =SUM(O14:Y14) -> 0 | BB14: =SUM(Z14:AJ14) -> 0 | BC14: =SUM(AK14:AQ14) -> 0 | BD14: =SUM(AZ14:BC14) -> 0 | BF14: =SUM(E14:N14) -> 0 | BG14: =SUM(Z14:AJ14) -> 0 | BJ14: =SUM(O14:Y14) -> 0 | BK14: =SUM(BF14:BJ14) -> 0
C15: 1106 | D15: Socioeconomist | AR15: =SUM(E15:AQ15) -> 0 | AT15: =$AR15/4 -> 0 | AU15: =$AR15/4 -> 0 | AV15: =$AR15/4 -> 0 | AW15: =$AR15/4 -> 0 | AX15: =SUM(AT15:AW15) -> 0 | AZ15: =SUM(E15:N15) -> 0 | BA15: =SUM(O15:Y15) -> 0 | BB15: =SUM(Z15:AJ15) -> 0 | BC15: =SUM(AK15:AQ15) -> 0 | BD15: =SUM(AZ15:BC15) -> 0 | BF15: =SUM(E15:N15) -> 0 | BG15: =SUM(Z15:AJ15) -> 0 | BJ15: =SUM(O15:Y15) -> 0 | BK15: =SUM(BF15:BJ15) -> 0
C16: 1107 | D16: Tourism expert | AR16: =SUM(E16:AQ16) -> 0 | AT16: =$AR16/4 -> 0 | AU16: =$AR16/4 -> 0 | AV16: =$AR16/4 -> 0 | AW16: =$AR16/4 -> 0 | AX16: =SUM(AT16:AW16) -> 0 | AZ16: =SUM(E16:N16) -> 0 | BA16: =SUM(O16:Y16) -> 0 | BB16: =SUM(Z16:AJ16) -> 0 | BC16: =SUM(AK16:AQ16) -> 0 | BD16: =SUM(AZ16:BC16) -> 0 | BF16: =SUM(E16:N16) -> 0 | BG16: =SUM(Z16:AJ16) -> 0 | BJ16: =SUM(O16:Y16) -> 0 | BK16: =SUM(BF16:BJ16) -> 0
C17: 1108 | D17: Misc technical GOSL support, incl field and nursery assistance | AR17: =SUM(E17:AQ17) -> 0 | AT17: =$AR17/4 -> 0 | AU17: =$AR17/4 -> 0 | AV17: =$AR17/4 -> 0 | AW17: =$AR17/4 -> 0 | AX17: =SUM(AT17:AW17) -> 0 | AZ17: =SUM(E17:N17) -> 0 | BA17: =SUM(O17:Y17) -> 0 | BB17: =SUM(Z17:AJ17) -> 0 | BC17: =SUM(AK17:AQ17) -> 0 | BD17: =SUM(AZ17:BC17) -> 0 | BF17: =SUM(E17:N17) -> 0 | BG17: =SUM(Z17:AJ17) -> 0 | BJ17: =SUM(O17:Y17) -> 0 | BK17: =SUM(BF17:BJ17) -> 0
C19: 1199 | D19: Sub-Total | E19: =SUM(E10:E17) -> 171.5297 | F19: =SUM(F10:F17) -> 900.06274 | G19: =SUM(G10:G17) -> 630.70492 | H19: =SUM(H10:H17) -> 871.41937 | I19: =SUM(I10:I17) -> 273.76449 | J19: =SUM(J10:J17) -> 1183.1914 | K19: =SUM(K10:K17) -> 1358.3566 | L19: =SUM(L10:L17) -> 609.22239 | ... AR19: =SUM(AR10:AR17) -> 106551.1 | AT19: =SUM(AT10:AT17) -> 26637.775 | AU19: =SUM(AU10:AU17) -> 26637.775 | AV19: =SUM(AV10:AV17) -> 26637.775 | AW19: =SUM(AW10:AW17) -> 26637.775 | AX19: =SUM(AX10:AX17) -> 106551.1 | AZ19: =SUM(E19:N19) -> 12722.35 | BA19: =SUM(O19:Y19) -> 47870.373 | BB19: =SUM(Z19:AJ19) -> 31671.857 | BC19: =SUM(AK19:AQ19) -> 14286.52 | BD19: =SUM(AZ19:BC19) -> 106551.1 | BF19: =SUM(E19:N19) -> 12722.35 | BG19: =SUM(Z19:AJ19) -> 31671.857 | BJ19: =SUM(O19:Y19) -> 47870.373 | BK19: =SUM(BF19:BJ19) -> 92264.58
B21: 1200 | C21: Consultants
C22: 1201 | D22: Environmental Education / Training Specialist / Social Marketing | E22: 0 | F22: 1101.668 | G22: 0 | H22: 1101.668 | I22: 1101.668 | J22: 550.83399 | K22: 0 | L22: 1762.6688 | M22: 0 | N22: 6007.0775 | O22: 1676.3937 | P22: 3492.4869 | Q22: 1816.0932 | R22: 2374.8911 | S22: 6007.0775 | T22: 558.79791 | U22: 3492.4869 | V22: 3352.7875 | W22: 838.19687 | X22: 186.26597 | Y22: 5634.5456 | Z22: 1741.9582 | AA22: 3788.7591 | AB22: 783.88119 | AC22: 522.58746 | AD22: 0 | AE22: 2612.9373 | AF22: 5095.2277 | AG22: 522.58746 | AH22: 0 | AI22: 522.58746 | AJ22: 0 | AK22: 0 | AL22: 0 | AM22: 0 | AN22: 1164.0427 | AO22: 5000 | AP22: 5005.5874 | AQ22: 6000 | AR22: =SUM(E22:AQ22) -> 73815.763 | AT22: =$AR22/4 -> 18453.941 | AU22: =$AR22/4 -> 18453.941 | AV22: =$AR22/4 -> 18453.941 | AW22: =$AR22/4 -> 18453.941 | AX22: =SUM(AT22:AW22) -> 73815.763 | AZ22: =SUM(E22:N22) -> 11625.584 | BA22: =SUM(O22:Y22) -> 29430.023 | BB22: =SUM(Z22:AJ22) -> 15590.526 | BC22: =SUM(AK22:AQ22) -> 17169.63 | BD22: =SUM(AZ22:BC22) -> 73815.763 | BF22: =SUM(E22:N22) -> 11625.584 | BG22: =SUM(Z22:AJ22) -> 15590.526 | BJ22: =SUM(O22:Y22) -> 29430.023 | BK22: =SUM(BF22:BJ22) -> 56646.133
C23: 1202 | D23: Biodiversity / Conservation Experts (terrestrial & aquatic) | E23: 0 | F23: 2423.6696 | G23: 1762.6688 | H23: 220.3336 | I23: 661.00079 | J23: 7932.0095 | K23: 2644.0032 | L23: 440.66719 | M23: 0 | N23: 13131.751 | O23: 1676.3937 | P23: 9220.1655 | Q23: 4190.9843 | R23: 5867.3781 | S23: 15087.544 | T23: 2235.1916 | U23: 7264.3728 | V23: 20815.222 | W23: 10896.559 | X23: 6659.0084 | Y23: 22584.749 | Z23: 7795.2629 | AA23: 25737.432 | AB23: 10190.455 | AC23: 4180.6997 | AD23: 4050.0528 | AE23: 14371.155 | AF23: 11758.218 | AG23: 18682.502 | AH23: 3135.5248 | AI23: 4180.6997 | AJ23: 13587.274 | AK23: 0 | AL23: 0 | AM23: 2037.0748 | AN23: 25000 | AO23: 0 | AP23: 13460.641 | AQ23: 4000 | AR23: =SUM(E23:AQ23) -> 297880.66 | AT23: =$AR23/4 -> 74470.166 | AU23: =$AR23/4 -> 74470.166 | AV23: =$AR23/4 -> 74470.166 | AW23: =$AR23/4 -> 74470.166 | AX23: =SUM(AT23:AW23) -> 297880.66 | AZ23: =SUM(E23:N23) -> 29216.103 | BA23: =SUM(O23:Y23) -> 106497.57 | BB23: =SUM(Z23:AJ23) -> 117669.28 | BC23: =SUM(AK23:AQ23) -> 44497.716 | BD23: =SUM(AZ23:BC23) -> 297880.66 | BF23: =SUM(E23:N23) -> 29216.103 | BG23: =SUM(Z23:AJ23) -> 117669.28 | BJ23: =SUM(O23:Y23) -> 106497.57 | BK23: =SUM(BF23:BJ23) -> 253382.95
C24: 1203 | D24: Socioeconomist / Livelihood expert | E24: 1101.668 | F24: 2203.336 | G24: 1101.668 | H24: 661.00079 | I24: 550.83399 | J24: 0 | K24: 0 | L24: 440.66719 | M24: 1652.502 | N24: 2235.1916 | O24: 838.19687 | P24: 8056.0032 | Q24: 93.132985 | R24: 3213.088 | S24: 3399.354 | T24: 1722.9602 | U24: 7543.7718 | V24: 279.39896 | W24: 1396.9948 | X24: 93.132985 | Y24: 5401.7131 | Z24: 2830.6821 | AA24: 6662.9901 | AB24: 1306.4686 | AC24: 261.29373 | AD24: 3396.8185 | AE24: 0 | AF24: 1567.7624 | AG24: 261.29373 | AH24: 3396.8185 | AI24: 261.29373 | AJ24: 0 | AK24: 10000 | AL24: 5000 | AM24: 0 | AN24: 582.02136 | AO24: 3000 | AP24: 5730.3204 | AQ24: 0 | AR24: =SUM(E24:AQ24) -> 86242.377 | AT24: =$AR24/4 -> 21560.594 | AU24: =$AR24/4 -> 21560.594 | AV24: =$AR24/4 -> 21560.594 | AW24: =$AR24/4 -> 21560.594 | AX24: =SUM(AT24:AW24) -> 86242.377 | AZ24: =SUM(E24:N24) -> 9946.8675 | BA24: =SUM(O24:Y24) -> 32037.747 | BB24: =SUM(Z24:AJ24) -> 19945.421 | BC24: =SUM(AK24:AQ24) -> 24312.342 | BD24: =SUM(AZ24:BC24) -> 86242.377 | BF24: =SUM(E24:N24) -> 9946.8675 | BG24: =SUM(Z24:AJ24) -> 19945.421 | BJ24: =SUM(O24:Y24) -> 32037.747 | BK24: =SUM(BF24:BJ24) -> 61930.036
C25: 1204 | D25: Sustainable Forest Management; Climate Change / Carbon Specialist | E25: 0 | F25: 1322.0016 | G25: 1322.0016 | H25: 0 | I25: 0 | J25: 0 | K25: 0 | L25: 440.66719 | M25: 0 | N25: 1983.7326 | O25: 1676.3937 | P25: 5317.8934 | Q25: 288.71225 | R25: 1965.106 | S25: 2542.5305 | T25: 1676.3937 | U25: 5057.1211 | V25: 0 | W25: 838.19687 | X25: 0 | Y25: 4218.9242 | Z25: 1567.7624 | AA25: 4729.4165 | AB25: 783.88119 | AC25: 0 | AD25: 3135.5248 | AE25: 0 | AF25: 810.01056 | AG25: 0 | AH25: 3135.5248 | AI25: 0 | AJ25: 0 | AK25: 0 | AL25: 0 | AM25: 0 | AN25: 0 | AO25: 0 | AP25: 3492.1282 | AQ25: 0 | AR25: =SUM(E25:AQ25) -> 46303.923 | AT25: =$AR25/4 -> 11575.981 | AU25: =$AR25/4 -> 11575.981 | AV25: =$AR25/4 -> 11575.981 | AW25: =$AR25/4 -> 11575.981 | AX25: =SUM(AT25:AW25) -> 46303.923 | AZ25: =SUM(E25:N25) -> 5068.4029 | BA25: =SUM(O25:Y25) -> 23581.272 | BB25: =SUM(Z25:AJ25) -> 14162.12 | BC25: =SUM(AK25:AQ25) -> 3492.1282 | BD25: =SUM(AZ25:BC25) -> 46303.923 | BF25: =SUM(E25:N25) -> 5068.4029 | BG25: =SUM(Z25:AJ25) -> 14162.12 | BJ25: =SUM(O25:Y25) -> 23581.272 | BK25: =SUM(BF25:BJ25) -> 42811.795
C26: 1205 | D26: Ecotourism Expert | E26: 1101.668 | F26: 1762.6688 | G26: 1101.668 | H26: 661.00079 | I26: 440.66719 | J26: 0 | K26: 0 | L26: 440.66719 | M26: 0 | N26: 2514.5906 | O26: 1676.3937 | P26: 7171.2398 | Q26: 186.26597 | R26: 2980.2555 | S26: 4051.2848 | T26: 1955.7927 | U26: 6286.4765 | V26: 279.39896 | W26: 1676.3937 | X26: 0 | Y26: 5867.3781 | Z26: 1567.7624 | AA26: 5225.8746 | AB26: 1567.7624 | AC26: 0 | AD26: 3658.1122 | AE26: 261.29373 | AF26: 1829.0561 | AG26: 0 | AH26: 3658.1122 | AI26: 0 | AJ26: 0 | AK26: 0 | AL26: 0 | AM26: 0 | AN26: 0 | AO26: 5000 | AP26: 9312.3418 | AQ26: 0 | AR26: =SUM(E26:AQ26) -> 72234.126 | AT26: =$AR26/4 -> 18058.531 | AU26: =$AR26/4 -> 18058.531 | AV26: =$AR26/4 -> 18058.531 | AW26: =$AR26/4 -> 18058.531 | AX26: =SUM(AT26:AW26) -> 72234.126 | AZ26: =SUM(E26:N26) -> 8022.9305 | BA26: =SUM(O26:Y26) -> 32130.88 | BB26: =SUM(Z26:AJ26) -> 17767.974 | BC26: =SUM(AK26:AQ26) -> 14312.342 | BD26: =SUM(AZ26:BC26) -> 72234.126 | BF26: =SUM(E26:N26) -> 8022.9305 | BG26: =SUM(Z26:AJ26) -> 17767.974 | BJ26: =SUM(O26:Y26) -> 32130.88 | BK26: =SUM(BF26:BJ26) -> 57921.784
C27: 1206 | D27: Agroforester | E27: 0 | F27: 661.00079 | G27: 661.00079 | H27: 661.00079 | I27: 0 | J27: 0 | K27: 0 | L27: 440.66719 | M27: 0 | N27: 4749.7822 | O27: 838.19687 | P27: 4516.9498 | Q27: 1862.6597 | R27: 2281.7581 | S27: 5308.5801 | T27: 1117.5958 | U27: 4051.2848 | V27: 2793.9896 | W27: 1396.9948 | X27: 0 | Y27: 6705.5749 | Z27: 783.88119 | AA27: 3135.5248 | AB27: 1306.4686 | AC27: 0 | AD27: 2351.6436 | AE27: 2612.9373 | AF27: 3919.4059 | AG27: 0 | AH27: 2351.6436 | AI27: 0 | AJ27: 0 | AK27: 0 | AL27: 0 | AM27: 0 | AN27: 0 | AO27: 0 | AP27: 3783.1388 | AQ27: 0 | AR27: =SUM(E27:AQ27) -> 58291.68 | AT27: =$AR27/4 -> 14572.92 | AU27: =$AR27/4 -> 14572.92 | AV27: =$AR27/4 -> 14572.92 | AW27: =$AR27/4 -> 14572.92 | AX27: =SUM(AT27:AW27) -> 58291.68 | AZ27: =SUM(E27:N27) -> 7173.4518 | BA27: =SUM(O27:Y27) -> 30873.585 | BB27: =SUM(Z27:AJ27) -> 16461.505 | BC27: =SUM(AK27:AQ27) -> 3783.1388 | BD27: =SUM(AZ27:BC27) -> 58291.68 | BF27: =SUM(E27:N27) -> 7173.4518 | BG27: =SUM(Z27:AJ27) -> 16461.505 | BJ27: =SUM(O27:Y27) -> 30873.585 | BK27: =SUM(BF27:BJ27) -> 54508.541
C28: 1207 | D28: Agro-processing / Marketing Specialist | E28: 0 | F28: 661.00079 | G28: 661.00079 | H28: 661.00079 | I28: 517.78395 | J28: 0 | K28: 0 | L28: 969.46782 | M28: 550.83399 | N28: 0 | O28: 838.19687 | P28: 5378.4299 | Q28: 0 | R28: 1792.81 | S28: 1792.81 | T28: 1792.81 | U28: 5378.4299 | V28: 0 | W28: 0 | X28: 0 | Y28: 2514.5906 | Z28: 2678.2607 | AA28: 5029.9043 | AB28: 0 | AC28: 0 | AD28: 2351.6436 | AE28: 0 | AF28: 0 | AG28: 0 | AH28: 2351.6436 | AI28: 0 | AJ28: 0 | AK28: 0 | AL28: 5000 | AM28: 0 | AN28: 0 | AO28: 20000 | AP28: 1164.0427 | AQ28: 0 | AR28: =SUM(E28:AQ28) -> 62084.66 | AT28: =$AR28/4 -> 15521.165 | AU28: =$AR28/4 -> 15521.165 | AV28: =$AR28/4 -> 15521.165 | AW28: =$AR28/4 -> 15521.165 | AX28: =SUM(AT28:AW28) -> 62084.66 | AZ28: =SUM(E28:N28) -> 4021.0881 | BA28: =SUM(O28:Y28) -> 19488.077 | BB28: =SUM(Z28:AJ28) -> 12411.452 | BC28: =SUM(AK28:AQ28) -> 26164.043 | BD28: =SUM(AZ28:BC28) -> 62084.66 | BF28: =SUM(E28:N28) -> 4021.0881 | BG28: =SUM(Z28:AJ28) -> 12411.452 | BJ28: =SUM(O28:Y28) -> 19488.077 | BK28: =SUM(BF28:BJ28) -> 35920.617
C29: 1208 | D29: Land Degradation & Physical Planning Expert | E29: 0 | F29: 2919.4201 | G29: 550.83399 | H29: 330.50039 | I29: 330.50039 | J29: 0 | K29: 0 | L29: 440.66719 | M29: 1762.6688 | N29: 558.79791 | O29: 1676.3937 | P29: 2933.689 | Q29: 0 | R29: 977.89634 | S29: 1676.3937 | T29: 977.89634 | U29: 2933.689 | V29: 0 | W29: 0 | X29: 0 | Y29: 1257.2953 | Z29: 1567.7624 | AA29: 3788.7591 | AB29: 0 | AC29: 0 | AD29: 1175.8218 | AE29: 0 | AF29: 0 | AG29: 0 | AH29: 1175.8218 | AI29: 0 | AJ29: 0 | AK29: 0 | AL29: 0 | AM29: 0 | AN29: 0 | AO29: 0 | AP29: 2161.2199 | AQ29: 0 | AR29: =SUM(E29:AQ29) -> 29196.027 | AT29: =$AR29/4 -> 7299.0068 | AU29: =$AR29/4 -> 7299.0068 | AV29: =$AR29/4 -> 7299.0068 | AW29: =$AR29/4 -> 7299.0068 | AX29: =SUM(AT29:AW29) -> 29196.027 | AZ29: =SUM(E29:N29) -> 6893.3888 | BA29: =SUM(O29:Y29) -> 12433.254 | BB29: =SUM(Z29:AJ29) -> 7708.165 | BC29: =SUM(AK29:AQ29) -> 2161.2199 | BD29: =SUM(AZ29:BC29) -> 29196.027 | BF29: =SUM(E29:N29) -> 6893.3888 | BG29: =SUM(Z29:AJ29) -> 7708.165 | BJ29: =SUM(O29:Y29) -> 12433.254 | BK29: =SUM(BF29:BJ29) -> 27034.807
C30: 1209 | D30: Policy Expert, Legislative Drafter | E30: 0 | F30: 1432.1684 | G30: 330.50039 | H30: 330.50039 | I30: 550.83399 | J30: 0 | K30: 0 | L30: 440.66719 | M30: 0 | N30: 1117.5958 | O30: 838.19687 | P30: 2281.7581 | Q30: 186.26597 | R30: 884.76336 | S30: 2095.4922 | T30: 1257.2953 | U30: 2095.4922 | V30: 0 | W30: 558.79791 | X30: 0 | Y30: 1816.0932 | Z30: 783.88119 | AA30: 1959.703 | AB30: 522.58746 | AC30: 0 | AD30: 1175.8218 | AE30: 0 | AF30: 522.58746 | AG30: 0 | AH30: 1175.8218 | AI30: 0 | AJ30: 0 | AK30: 0 | AL30: 0 | AM30: 0 | AN30: 0 | AO30: 0 | AP30: 5513.4592 | AQ30: 0 | AR30: =SUM(E30:AQ30) -> 27870.283 | AT30: =$AR30/4 -> 6967.5708 | AU30: =$AR30/4 -> 6967.5708 | AV30: =$AR30/4 -> 6967.5708 | AW30: =$AR30/4 -> 6967.5708 | AX30: =SUM(AT30:AW30) -> 27870.283 | AZ30: =SUM(E30:N30) -> 4202.2662 | BA30: =SUM(O30:Y30) -> 12014.155 | BB30: =SUM(Z30:AJ30) -> 6140.4026 | BC30: =SUM(AK30:AQ30) -> 5513.4592 | BD30: =SUM(AZ30:BC30) -> 27870.283 | BF30: =SUM(E30:N30) -> 4202.2662 | BG30: =SUM(Z30:AJ30) -> 6140.4026 | BJ30: =SUM(O30:Y30) -> 12014.155 | BK30: =SUM(BF30:BJ30) -> 22356.824
